BEGIN:VCALENDAR
VERSION:2.0
PRODID:http://www.pfarrei-sankt-hildegard.de
BEGIN:VEVENT
UID:012b76d6-3dfa-11f1-a3e9-0242ac11002b-1780212600000-de
DTSTAMP:20260422T031859Z
DTSTART:20260531T073000Z
DTEND:20260531T083000Z
SUMMARY;LANGUAGE=de:Hochamt - Statio vor der Kirche zu Fronleichnam
END:VEVENT
END:VCALENDAR
