BEGIN:VCALENDAR
VERSION:2.0
PRODID:http://www.pfarrei-sankt-hildegard.de
BEGIN:VEVENT
UID:01efb13f-3dfa-11f1-a3e9-0242ac11002b-1780558200000-de
DTSTAMP:20260422T031900Z
DTSTART:20260604T073000Z
DTEND:20260604T083000Z
SUMMARY;LANGUAGE=de:Festhochamt mit anschl. Fronleichnamsprozession
END:VEVENT
END:VCALENDAR
