BEGIN:VCALENDAR
VERSION:2.0
PRODID:http://www.pfarrei-sankt-hildegard.de
BEGIN:VEVENT
UID:1c18a961-2414-11f1-a21a-0242ac11002b-1776963600000-de
DTSTAMP:20260320T042021Z
DTSTART:20260423T170000Z
DTEND:20260423T180000Z
SUMMARY;LANGUAGE=de:Hl. Messe zum Patronatsfest des Hl. Markus
END:VEVENT
END:VCALENDAR
