BEGIN:VCALENDAR
VERSION:2.0
PRODID:http://www.pfarrei-sankt-hildegard.de
BEGIN:VEVENT
UID:23308401-3943-11f1-a3e9-0242ac11002b-1779022800000-de
DTSTAMP:20260416T031954Z
DTSTART:20260517T130000Z
DTEND:20260517T140000Z
SUMMARY;LANGUAGE=de:Wortgottesdienst der Matthiasbruderschaft Kleinenbroich
END:VEVENT
END:VCALENDAR
